BEGIN:VCALENDAR
VERSION:2.0
PRODID:-//wp-events-plugin.com//7.2.3.1//EN
TZID:Europe/Helsinki
X-WR-TIMEZONE:Europe/Helsinki
BEGIN:VEVENT
UID:14@filatelisti.fi
DTSTART;TZID=Europe/Helsinki:20260422T180000
DTEND;TZID=Europe/Helsinki:20260422T200000
DTSTAMP:20260419T072258Z
URL:https://filatelisti.fi/tapahtumat/merkittava-esitelmatilaisuus-hffn-ko
 kouksessa-22-4-2026/
SUMMARY:Merkittävä esitelmätilaisuus HFF:n kokouksessa 22.4.2026
DESCRIPTION:HFF:n seuraavassa kokouksessa 22.4.2026 Lönnrotink. 32 B Tomas
  Bjäringer ja Mårten Sundberg esitelmöivät  tekemästään ovaalipäi
 kköjen\nolemusta\, merkitystä ja kaikkien tunnettujen päikköjen histor
 iasta yhdessä tehdystä tutkimuksestaan ja julkaistusta kirjastaan.\nEsit
 ys on ruotsiksi\, mutta suomella ja englannilla pärjää. Bjäringer on y
 ksi maailman tunnetuimmista filatelisteista ja\nSundberg tunnettu filateli
 aa käsittelevä ahvenanmaalainen journalisti.
END:VEVENT
BEGIN:VTIMEZONE
TZID:Europe/Helsinki
X-LIC-LOCATION:Europe/Helsinki
BEGIN:DAYLIGHT
DTSTART:20260329T040000
TZOFFSETFROM:+0200
TZOFFSETTO:+0300
TZNAME:EEST
END:DAYLIGHT
END:VTIMEZONE
END:VCALENDAR